BEGIN:VCALENDAR
VERSION:2.0
PRODID:-//Space Coast Writers Guild (SCWG) - ECPv6.15.20//NONSGML v1.0//EN
CALSCALE:GREGORIAN
METHOD:PUBLISH
X-WR-CALNAME:Space Coast Writers Guild (SCWG)
X-ORIGINAL-URL:https://scwg.org
X-WR-CALDESC:Events for Space Coast Writers Guild (SCWG)
REFRESH-INTERVAL;VALUE=DURATION:PT1H
X-Robots-Tag:noindex
X-PUBLISHED-TTL:PT1H
BEGIN:VTIMEZONE
TZID:UTC
BEGIN:STANDARD
TZOFFSETFROM:+0000
TZOFFSETTO:+0000
TZNAME:UTC
DTSTART:20250101T000000
END:STANDARD
END:VTIMEZONE
BEGIN:VEVENT
DTSTART;TZID=UTC:20260509T000000
DTEND;TZID=UTC:20260510T235959
DTSTAMP:20260421T072425
CREATED:20260113T173021Z
LAST-MODIFIED:20260113T174224Z
UID:7999-1778284800-1778457599@scwg.org
SUMMARY:Cocoa Village Art & Craft Fair
DESCRIPTION:SHOWCASE YOUR WORK!\n\n\n\nFour times a year\, the Space Coast Writers Guild is honored to participate in the Cocoa Village Art Shows\, one of the region’s most vibrant cultural gatherings that draws thousands of visitors from across Florida. As a recognized nonprofit\, we’re given a free booth—and in the spirit of community\, we pass that opportunity on to you\, our members. \n\n\n\nIf you’re a published author and ready to connect with readers\, sell your books\, and represent the Guild\, this is your chance to shine in a lively\, supportive environment. \n\n\n\nWe have up to 6 table spaces available per show.  \n\n\n\n\nThe event generally runs from 10 AM to 5 PM\, with different setup and teardown times for each day.\n\n\n\nSpaces are filled on a first-come\, first-served basis\, and applications are reviewed by the Table Space Crew Committee.\n\n\n\n\nFor more information regarding the Table Space Crew and guidelines for event participation\, please click HERE. \n\n\n\nGood luck to all the participants!
URL:https://scwg.org/event/cocoa-village-art-craft-fair/
END:VEVENT
BEGIN:VEVENT
DTSTART;TZID=UTC:20260516T130000
DTEND;TZID=UTC:20260516T150000
DTSTAMP:20260421T072425
CREATED:20250628T210609Z
LAST-MODIFIED:20251213T195929Z
UID:6169-1778936400-1778943600@scwg.org
SUMMARY:Monthly Guild Meeting
DESCRIPTION:Sondee Lima: From Page to Stage\, Mastering Public Speaking as an Author \n\n\n\nAuthors need more than a strong manuscript—they need a strong presence. In this workshop\, you’ll learn how to elevate your delivery\, connect with your audience\, and present your story with impact. \n\n\n\nSondee will focus on powerful openings and closings\, nonverbal and vocal techniques\, and how to shape your unique author persona onstage. You’ll also learn to craft clear\, organized content and visuals that enhance your message. Finally\, we’ll cover effective Q&A skills and soft selling—how to engage your audience while naturally guiding them toward your work. \n\n\n\nWalk away with practical tools to speak with confidence\, clarity\, and authenticity at any event. \n\n\n\nLocation:Lamplighter Village Clubhouse500 Lantern Dr\, Melbourne\, FL 32934
URL:https://scwg.org/event/monthly-guild-meeting-10/
END:VEVENT
END:VCALENDAR