BEGIN:VCALENDAR
VERSION:2.0
PRODID:-//Space Coast Writers Guild (SCWG) - ECPv6.15.20//NONSGML v1.0//EN
CALSCALE:GREGORIAN
METHOD:PUBLISH
X-WR-CALNAME:Space Coast Writers Guild (SCWG)
X-ORIGINAL-URL:https://scwg.org
X-WR-CALDESC:Events for Space Coast Writers Guild (SCWG)
REFRESH-INTERVAL;VALUE=DURATION:PT1H
X-Robots-Tag:noindex
X-PUBLISHED-TTL:PT1H
BEGIN:VTIMEZONE
TZID:UTC
BEGIN:STANDARD
TZOFFSETFROM:+0000
TZOFFSETTO:+0000
TZNAME:UTC
DTSTART:20250101T000000
END:STANDARD
END:VTIMEZONE
BEGIN:VEVENT
DTSTART;TZID=UTC:20261219T130000
DTEND;TZID=UTC:20261219T150000
DTSTAMP:20260421T223657
CREATED:20250628T212400Z
LAST-MODIFIED:20251213T200841Z
UID:6183-1797685200-1797692400@scwg.org
SUMMARY:Monthly Guild Meeting
DESCRIPTION:Our Annual Q&A Holiday Session \n\n\n\nJoin us for our annual Holiday Session & Writer Q&A—a warm and festive tradition for members to reflect\, reconnect\, and recharge for the year ahead. \n\n\n\nWe’ll share Guild highlights from 2025\, preview upcoming opportunities for 2026\, and host a lively Q&A roundtable discussion where writers can ask their most pressing questions and exchange ideas with fellow members. \n\n\n\nAs always\, your SCWG Board has planned a gift giveaway with small surprises and lots of laughter. \n\n\n\nWe look forward to seeing you there! \n\n\n\nLocation:Lamplighter Village Clubhouse500 Lantern Dr\, Melbourne\, FL 32934
URL:https://scwg.org/event/monthly-guild-meeting-16/
END:VEVENT
BEGIN:VEVENT
DTSTART;TZID=UTC:20270417T130000
DTEND;TZID=UTC:20270417T150000
DTSTAMP:20260421T223657
CREATED:20260124T205533Z
LAST-MODIFIED:20260205T180216Z
UID:8132-1807966800-1807974000@scwg.org
SUMMARY:Monthly Guild Meeting
DESCRIPTION:Brian Holt: Protecting Your Words: Understanding Publishing Contracts \n\n\n\n\n\n\n\nJoin us on Saturday\, July 18\, 2026\, for a special presentation by Guild Member and former Vice President\, Brian Holt. \n\n\n\nThis presentation will walk writers through the essentials of understanding contracts\, with special attention to the fine print that often hides the biggest risks. You’ll learn what to watch for\, what questions to ask\, and how to protect your rights so you can sign with confidence instead of regret. \n\n\n\nAbout the Speaker:Brian studied at Southern Illinois University\, Carbondale\, and the University of Alabama\, and is the author of a forthcoming historical\, literary novel\, Six Rows Wide. \n\n\n\nLocation: Lamplighter Village Clubhouse 500 Lantern Blvd\, Melbourne\, FL 32934
URL:https://scwg.org/event/guild-meeting-brianholt/
END:VEVENT
END:VCALENDAR