BEGIN:VCALENDAR
VERSION:2.0
PRODID:-//Space Coast Writers Guild (SCWG) - ECPv6.15.20//NONSGML v1.0//EN
CALSCALE:GREGORIAN
METHOD:PUBLISH
X-WR-CALNAME:Space Coast Writers Guild (SCWG)
X-ORIGINAL-URL:https://scwg.org
X-WR-CALDESC:Events for Space Coast Writers Guild (SCWG)
REFRESH-INTERVAL;VALUE=DURATION:PT1H
X-Robots-Tag:noindex
X-PUBLISHED-TTL:PT1H
BEGIN:VTIMEZONE
TZID:UTC
BEGIN:STANDARD
TZOFFSETFROM:+0000
TZOFFSETTO:+0000
TZNAME:UTC
DTSTART:20240101T000000
END:STANDARD
END:VTIMEZONE
BEGIN:VEVENT
DTSTART;TZID=UTC:20251018T000000
DTEND;TZID=UTC:20251019T235959
DTSTAMP:20260421T142503
CREATED:20250628T213122Z
LAST-MODIFIED:20250710T213812Z
UID:6187-1760745600-1760918399@scwg.org
SUMMARY:Cocoa Village Fall Art & Craft Fair
DESCRIPTION:Showcase Your Work! \n\n\n\nFour times a year\, the Space Coast Writers Guild is honored to participate in the Cocoa Village Art Shows\, one of the region’s most vibrant cultural gatherings that draws thousands of visitors from across Florida. As a recognized nonprofit\, we’re gifted a free booth — and in the spirit of community\, we pass that opportunity on to you\, our members. \n\n\n\nIf you’re a published author and ready to connect with readers\, sell your books\, and represent the Guild\, this is your chance to shine in a lively\, supportive environment. \n\n\n\nWe have up to six available table spaces per show.  \n\n\n\n\nThe event generally runs from 10 AM to 5 PM\, with different set-up and tear-down time frames for each day. \n\n\n\nTo reserve your spot\, please submit the Event Application via the button below.\n\n\n\nSpaces are filled on a first-come\, first-served basis\, and applications are reviewed by the Table Space Crew Committee.\n\n\n\n\nFor more information regarding the Table Space Crew and guidelines for event participation\, please click HERE. \n\n\n\nGood luck to all the participants! \n\n\n\nEvent Application
URL:https://scwg.org/event/cocoa-village-fall-art-craft-fair/
END:VEVENT
BEGIN:VEVENT
DTSTART;TZID=UTC:20250920T120000
DTEND;TZID=UTC:20250920T140000
DTSTAMP:20260421T142503
CREATED:20250628T204608Z
LAST-MODIFIED:20250918T171713Z
UID:6152-1758369600-1758376800@scwg.org
SUMMARY:Monthly Guild Meeting
DESCRIPTION:Andrea Tripke\, Illustrator/Writer; Topic: Illustrating the Journey: From Artboard to Author \n\n\n\n\n\n\n\nAward-winning illustrator Andrea Tripke invites you into the colorful world of children’s book creation. \n\n\n\nWith years of experience bringing stories to life through art\, Andrea has worked on traditionally published projects both with and without agents\, later expanding her craft to become a writer/illustrator. \n\n\n\nIn this engaging presentation\, she’ll share her path to finding an agent\, navigating the publishing process\, and building a career rooted in visual storytelling. \n\n\n\nAndrea will bring resource books\, final artwork from published titles\, and examples from her picture books—offering invaluable insight for illustrators and creatives looking to break into the field. \n\n\n\nWe look forward to seeing you there! \n\n\n\nLocation: Eau Gallie Public Library 1521 Pineapple Ave\, Melbourne\, FL 32935
URL:https://scwg.org/event/monthly-guild-meeting-3/
END:VEVENT
BEGIN:VEVENT
DTSTART;TZID=UTC:20250816T120000
DTEND;TZID=UTC:20250816T140000
DTSTAMP:20260421T142503
CREATED:20250628T203111Z
LAST-MODIFIED:20250722T170033Z
UID:6148-1755345600-1755352800@scwg.org
SUMMARY:Monthly Guild Meeting
DESCRIPTION:Ginny Myers Sain: Finding Your Voice \n\n\n\nWe’re excited to welcome back YA author\, Ginny Myers Sain\, presenting Finding Your Voice. An Author’s voice is one of the most often noted elements in agent and editor rejections AND acceptances\, and it’s also one of the hardest elements of writing to define and teach.  \n\n\n\nWhat exactly is voice?How do you find yours?How can you develop it once you’ve found it? \n\n\n\nJoin us for an engaging\, craft-focused session where Ginny will help demystify this elusive but essential element of storytelling. Whether you’re just starting out or polishing your next manuscript\, you’ll leave with tools\, inspiration\, and a clearer sense of what makes your voice unique—and a voice agents and editors will want to hear more from. \n\n\n\nWe look forward to seeing you there! \n\n\n\nLocation:Eau Gallie Public Library1521 Pineapple Ave\, Melbourne\, FL 32935
URL:https://scwg.org/event/monthly-guild-meeting-2/
END:VEVENT
BEGIN:VEVENT
DTSTART;TZID=UTC:20250719T120000
DTEND;TZID=UTC:20250719T140000
DTSTAMP:20260421T142503
CREATED:20250628T195912Z
LAST-MODIFIED:20250711T010348Z
UID:6134-1752926400-1752933600@scwg.org
SUMMARY:Monthly Guild Meeting
DESCRIPTION:July Guest Speaker: Brian Freeman\, New York Times Bestselling Author \n\n\n\n\n\n\n\nWe’re excited to welcome back acclaimed thriller author Brian Freeman for a special\, in-depth interview session at our July meeting. Best known for continuing the Jason Bourne series by renowned author Robert Ludlum\, and his own gripping psychological thrillers like Thief River Falls and The Night Bird\, Brian will dive deeper into his writing process\, career trajectory\, and how he crafts heart-pounding suspense that keeps readers turning the page. \n\n\n\nThis interactive session will include curated questions and live Q&A—don’t miss this unique opportunity to learn from one of the best in the business. \n\n\n\nJoin us for what is sure to be a lively discussion! \n\n\n\nWe look forward to seeing you there! \n\n\n\nLocation: Eau Gallie Public Library 1521 Pineapple Ave\, Melbourne\, FL 32935
URL:https://scwg.org/event/monthly-guild-meeting/
END:VEVENT
END:VCALENDAR