BEGIN:VCALENDAR
VERSION:2.0
PRODID:-//Space Coast Writers Guild (SCWG) - ECPv6.15.20//NONSGML v1.0//EN
CALSCALE:GREGORIAN
METHOD:PUBLISH
X-ORIGINAL-URL:https://scwg.org
X-WR-CALDESC:Events for Space Coast Writers Guild (SCWG)
REFRESH-INTERVAL;VALUE=DURATION:PT1H
X-Robots-Tag:noindex
X-PUBLISHED-TTL:PT1H
BEGIN:VTIMEZONE
TZID:UTC
BEGIN:STANDARD
TZOFFSETFROM:+0000
TZOFFSETTO:+0000
TZNAME:UTC
DTSTART:20250101T000000
END:STANDARD
END:VTIMEZONE
BEGIN:VEVENT
DTSTART;TZID=UTC:20261017T000000
DTEND;TZID=UTC:20261018T235959
DTSTAMP:20260421T152755
CREATED:20260113T173255Z
LAST-MODIFIED:20260113T174251Z
UID:8007-1792195200-1792367999@scwg.org
SUMMARY:Cocoa Village Fall Art & Craft Fair
DESCRIPTION:SHOWCASE YOUR WORK!\n\n\n\nFour times a year\, the Space Coast Writers Guild is honored to participate in the Cocoa Village Art Shows\, one of the region’s most vibrant cultural gatherings that draws thousands of visitors from across Florida. As a recognized nonprofit\, we’re given a free booth—and in the spirit of community\, we pass that opportunity on to you\, our members. \n\n\n\nIf you’re a published author and ready to connect with readers\, sell your books\, and represent the Guild\, this is your chance to shine in a lively\, supportive environment. \n\n\n\nWe have up to 6 table spaces available per show.  \n\n\n\n\nThe event generally runs from 10 AM to 5 PM\, with different setup and teardown times for each day.\n\n\n\nSpaces are filled on a first-come\, first-served basis\, and applications are reviewed by the Table Space Crew Committee.\n\n\n\n\nFor more information regarding the Table Space Crew and guidelines for event participation\, please click HERE. \n\n\n\nGood luck to all the participants!
URL:https://scwg.org/event/cocoa-village-fall-art-craft-fair-2/
END:VEVENT
BEGIN:VEVENT
DTSTART;TZID=UTC:20261017T130000
DTEND;TZID=UTC:20261017T150000
DTSTAMP:20260421T152755
CREATED:20250628T211406Z
LAST-MODIFIED:20251213T200330Z
UID:6179-1792242000-1792249200@scwg.org
SUMMARY:Monthly Guild Meeting
DESCRIPTION:Valerie Allen: Mega Marketing with Mini Money \n\n\n\nValerie Allen is a well-known figure in Florida’s writing community\, celebrated for her expertise in publishing\, marketing\, and the business of being an author. A psychologist and award-winning writer\, she has published across genres—fiction\, short stories\, children’s books\, nonfiction\, and guides for writers—and has long been active in local literary organizations\, including the Cape Canaveral Pen Women\, serving on the Space Coast Writers Guild Board\, and co-founding Authors for Authors. Many of our members know her from her popular workshops\, conferences\, and book fairs held throughout Brevard County. \n\n\n\nIn her presentation\, Mega Marketing with Mini Money\, Valerie will break down the essentials of book marketing in a way only she can—clear\, practical\, and refreshingly doable. She’ll explore the three skill sets every author must master (writing\, publishing\, and selling) and reveal how readers truly make purchasing decisions. From effective word-of-mouth strategies to leveraging hard-copy materials\, to navigating the “electronic highway\,” Valerie will show you how to promote your work with confidence—without breaking the bank. \n\n\n\nLocation:Lamplighter Village Clubhouse500 Lantern Dr\, Melbourne\, FL 32934
URL:https://scwg.org/event/monthly-guild-meeting-14/
END:VEVENT
END:VCALENDAR