BEGIN:VCALENDAR
VERSION:2.0
PRODID:-//Space Coast Writers Guild (SCWG) - ECPv6.15.20//NONSGML v1.0//EN
CALSCALE:GREGORIAN
METHOD:PUBLISH
X-ORIGINAL-URL:https://scwg.org
X-WR-CALDESC:Events for Space Coast Writers Guild (SCWG)
REFRESH-INTERVAL;VALUE=DURATION:PT1H
X-Robots-Tag:noindex
X-PUBLISHED-TTL:PT1H
BEGIN:VTIMEZONE
TZID:UTC
BEGIN:STANDARD
TZOFFSETFROM:+0000
TZOFFSETTO:+0000
TZNAME:UTC
DTSTART:20250101T000000
END:STANDARD
END:VTIMEZONE
BEGIN:VEVENT
DTSTART;TZID=UTC:20260321T110000
DTEND;TZID=UTC:20260321T130000
DTSTAMP:20260421T090616
CREATED:20250628T210332Z
LAST-MODIFIED:20260113T151647Z
UID:6165-1774090800-1774098000@scwg.org
SUMMARY:Monthly Guild Meeting
DESCRIPTION:Brenda Spalding: The Writers Platform-What It Is and Why You Need It \n\n\n\nWe’re thrilled to welcome award-winning author and publishing consultant Brenda Spalding as our March 2026 guest speaker. With twenty-eight published books\, a deep background in marketing\, and years of experience guiding writers on their publishing journeys\, Brenda brings a wealth of knowledge every author can benefit from—whether you’re just starting out or looking to expand your reach. \n\n\n\nIn her presentation\, “The Writer’s Platform: What It Is and Why You Need It\,” Brenda will break down the essential elements every modern writer needs to build visibility\, credibility\, and long-term success. Her session will cover: \n\n\n\n\nHow to build a strong\, sustainable author platform\n\n\n\nSocial media marketing—what matters today and what doesn’t\n\n\n\n“Get your butt out the door”—the power of in-person engagement\n\n\n\nNewsletters: how often to send and what to include\n\n\n\nPay-per-click advertising—when is it worth it?\n\n\n\nOutsourcing marketing—questions to ask before you spend a dime\n\n\n\n\nBrenda’s passion for helping authors shines through in everything she does. A past president of the National League of American Pen Women (Sarasota Branch)\, she is an active member of several statewide writing organizations and frequently speaks at conferences\, book clubs\, and writers’ groups. Through her company\, Braden River Consulting LLC\, she supports writers at every stage of the publishing process. \n\n\n\nYou won’t want to miss this informative\, motivating\, and highly practical session designed to elevate your voice and expand your author reach. \n\n\n\nwww.bradenriverconsulting.com | www.brendamspaldingauthor.com \n\n\n\nLocation: Eau Gallie Public Library 1521 Pineapple Ave\, Melbourne\, FL 32935
URL:https://scwg.org/event/monthly-guild-meeting-8/
END:VEVENT
END:VCALENDAR