BEGIN:VCALENDAR
VERSION:2.0
PRODID:-//Space Coast Writers Guild (SCWG) - ECPv6.15.20//NONSGML v1.0//EN
CALSCALE:GREGORIAN
METHOD:PUBLISH
X-WR-CALNAME:Space Coast Writers Guild (SCWG)
X-ORIGINAL-URL:https://scwg.org
X-WR-CALDESC:Events for Space Coast Writers Guild (SCWG)
REFRESH-INTERVAL;VALUE=DURATION:PT1H
X-Robots-Tag:noindex
X-PUBLISHED-TTL:PT1H
BEGIN:VTIMEZONE
TZID:UTC
BEGIN:STANDARD
TZOFFSETFROM:+0000
TZOFFSETTO:+0000
TZNAME:UTC
DTSTART:20250101T000000
END:STANDARD
END:VTIMEZONE
BEGIN:VEVENT
DTSTART;TZID=UTC:20260221T100000
DTEND;TZID=UTC:20260221T150000
DTSTAMP:20260421T091848
CREATED:20250628T210042Z
LAST-MODIFIED:20260113T151547Z
UID:6163-1771668000-1771686000@scwg.org
SUMMARY:First Annual Space Coast Writers Guild Book Fair!
DESCRIPTION:Showcase Your Work! \n\n\n\nFor More information\, please click HERE.
URL:https://scwg.org/event/first-annual-space-coast-writers-guild-book-fair/
END:VEVENT
END:VCALENDAR