BEGIN:VCALENDAR
VERSION:2.0
PRODID:-//Space Coast Writers Guild (SCWG) - ECPv6.15.20//NONSGML v1.0//EN
CALSCALE:GREGORIAN
METHOD:PUBLISH
X-ORIGINAL-URL:https://scwg.org
X-WR-CALDESC:Events for Space Coast Writers Guild (SCWG)
REFRESH-INTERVAL;VALUE=DURATION:PT1H
X-Robots-Tag:noindex
X-PUBLISHED-TTL:PT1H
BEGIN:VTIMEZONE
TZID:UTC
BEGIN:STANDARD
TZOFFSETFROM:+0000
TZOFFSETTO:+0000
TZNAME:UTC
DTSTART:20240101T000000
END:STANDARD
END:VTIMEZONE
BEGIN:VEVENT
DTSTART;TZID=UTC:20251115T120000
DTEND;TZID=UTC:20251115T140000
DTSTAMP:20260421T084019
CREATED:20250628T204837Z
LAST-MODIFIED:20251022T204755Z
UID:6156-1763208000-1763215200@scwg.org
SUMMARY:Monthly Guild Meeting
DESCRIPTION:Anna Myers: Ten Rules Every Fiction Writer Should Know \n\n\n\nJoin us for a masterclass in storytelling with award-winning author Anna Myers. A traditionally published writer of 17 middle grade and young adult novels—including Red-Dirt Jessie\, Tulsa Burning\, and Assassin—Myers brings decades of experience to the page and the podium. \n\n\n\nIn this practical and inspiring session\, Anna will share The 10 Rules Every Fiction Writer Should Know\, offering timeless guidance to sharpen your instincts\, avoid common pitfalls\, and elevate your storytelling. She’ll also spotlight one of her favorite craft topics—why dialogue matters\, and how to use it to build character\, reveal conflict\, and keep readers turning pages. \n\n\n\nWhether you’re a novelist in the making or simply looking to improve your narrative skill set\, this presentation will be packed with wisdom. Arrive ready to take notes\, ask questions\, and walk away with a toolbox of writing how-tos you’ll return to again and again. \n\n\n\nWe look forward to seeing you there! \n\n\n\nLocation: Eau Gallie Public Library 1521 Pineapple Ave\, Melbourne\, FL 32935
URL:https://scwg.org/event/monthly-guild-meeting-5/
END:VEVENT
END:VCALENDAR