BEGIN:VCALENDAR
VERSION:2.0
PRODID:-//Space Coast Writers Guild (SCWG) - ECPv6.15.20//NONSGML v1.0//EN
CALSCALE:GREGORIAN
METHOD:PUBLISH
X-WR-CALNAME:Space Coast Writers Guild (SCWG)
X-ORIGINAL-URL:https://scwg.org
X-WR-CALDESC:Events for Space Coast Writers Guild (SCWG)
REFRESH-INTERVAL;VALUE=DURATION:PT1H
X-Robots-Tag:noindex
X-PUBLISHED-TTL:PT1H
BEGIN:VTIMEZONE
TZID:UTC
BEGIN:STANDARD
TZOFFSETFROM:+0000
TZOFFSETTO:+0000
TZNAME:UTC
DTSTART:20240101T000000
END:STANDARD
END:VTIMEZONE
BEGIN:VEVENT
DTSTART;TZID=UTC:20250920T120000
DTEND;TZID=UTC:20250920T140000
DTSTAMP:20260421T151733
CREATED:20250628T204608Z
LAST-MODIFIED:20250918T171713Z
UID:6152-1758369600-1758376800@scwg.org
SUMMARY:Monthly Guild Meeting
DESCRIPTION:Andrea Tripke\, Illustrator/Writer; Topic: Illustrating the Journey: From Artboard to Author \n\n\n\n\n\n\n\nAward-winning illustrator Andrea Tripke invites you into the colorful world of children’s book creation. \n\n\n\nWith years of experience bringing stories to life through art\, Andrea has worked on traditionally published projects both with and without agents\, later expanding her craft to become a writer/illustrator. \n\n\n\nIn this engaging presentation\, she’ll share her path to finding an agent\, navigating the publishing process\, and building a career rooted in visual storytelling. \n\n\n\nAndrea will bring resource books\, final artwork from published titles\, and examples from her picture books—offering invaluable insight for illustrators and creatives looking to break into the field. \n\n\n\nWe look forward to seeing you there! \n\n\n\nLocation: Eau Gallie Public Library 1521 Pineapple Ave\, Melbourne\, FL 32935
URL:https://scwg.org/event/monthly-guild-meeting-3/
END:VEVENT
END:VCALENDAR